BEGIN:VCALENDAR
VERSION:2.0
PRODID:-//KingsRSC - ECPv6.15.20//NONSGML v1.0//EN
CALSCALE:GREGORIAN
METHOD:PUBLISH
X-WR-CALNAME:KingsRSC
X-ORIGINAL-URL:https://kingsrsc.ca
X-WR-CALDESC:Events for KingsRSC
REFRESH-INTERVAL;VALUE=DURATION:PT1H
X-Robots-Tag:noindex
X-PUBLISHED-TTL:PT1H
BEGIN:VTIMEZONE
TZID:America/Moncton
BEGIN:DAYLIGHT
TZOFFSETFROM:-0400
TZOFFSETTO:-0300
TZNAME:ADT
DTSTART:20240310T060000
END:DAYLIGHT
BEGIN:STANDARD
TZOFFSETFROM:-0300
TZOFFSETTO:-0400
TZNAME:AST
DTSTART:20241103T050000
END:STANDARD
BEGIN:DAYLIGHT
TZOFFSETFROM:-0400
TZOFFSETTO:-0300
TZNAME:ADT
DTSTART:20250309T060000
END:DAYLIGHT
BEGIN:STANDARD
TZOFFSETFROM:-0300
TZOFFSETTO:-0400
TZNAME:AST
DTSTART:20251102T050000
END:STANDARD
BEGIN:DAYLIGHT
TZOFFSETFROM:-0400
TZOFFSETTO:-0300
TZNAME:ADT
DTSTART:20260308T060000
END:DAYLIGHT
BEGIN:STANDARD
TZOFFSETFROM:-0300
TZOFFSETTO:-0400
TZNAME:AST
DTSTART:20261101T050000
END:STANDARD
END:VTIMEZONE
BEGIN:VEVENT
DTSTART;TZID=America/Moncton:20251210T100000
DTEND;TZID=America/Moncton:20251210T110000
DTSTAMP:20260423T005517
CREATED:20251204T191137Z
LAST-MODIFIED:20251204T191343Z
UID:2777-1765360800-1765364400@kingsrsc.ca
SUMMARY:Regional Infrastructure and Culture Committee Meeting
DESCRIPTION:The Kings RSC Regional Sports\, Recreational Infrastructure and Culture Committee will have a meeting on Wednesday\, December 10th\, 2025\, at 10am at the Kings RSC Boardroom located at 27 Winter Street\, Unit 1\, Sussex NB\, E4E2H9. \n\n\n\nClick here to view the Agenda
URL:https://kingsrsc.ca/event/regional-infrastructure-and-culture-committee-meeting/
END:VEVENT
END:VCALENDAR