BEGIN:VCALENDAR
VERSION:2.0
PRODID:-//KingsRSC - ECPv6.15.20//NONSGML v1.0//EN
CALSCALE:GREGORIAN
METHOD:PUBLISH
X-ORIGINAL-URL:https://kingsrsc.ca
X-WR-CALDESC:Events for KingsRSC
REFRESH-INTERVAL;VALUE=DURATION:PT1H
X-Robots-Tag:noindex
X-PUBLISHED-TTL:PT1H
BEGIN:VTIMEZONE
TZID:America/Moncton
BEGIN:DAYLIGHT
TZOFFSETFROM:-0400
TZOFFSETTO:-0300
TZNAME:ADT
DTSTART:20240310T060000
END:DAYLIGHT
BEGIN:STANDARD
TZOFFSETFROM:-0300
TZOFFSETTO:-0400
TZNAME:AST
DTSTART:20241103T050000
END:STANDARD
BEGIN:DAYLIGHT
TZOFFSETFROM:-0400
TZOFFSETTO:-0300
TZNAME:ADT
DTSTART:20250309T060000
END:DAYLIGHT
BEGIN:STANDARD
TZOFFSETFROM:-0300
TZOFFSETTO:-0400
TZNAME:AST
DTSTART:20251102T050000
END:STANDARD
BEGIN:DAYLIGHT
TZOFFSETFROM:-0400
TZOFFSETTO:-0300
TZNAME:ADT
DTSTART:20260308T060000
END:DAYLIGHT
BEGIN:STANDARD
TZOFFSETFROM:-0300
TZOFFSETTO:-0400
TZNAME:AST
DTSTART:20261101T050000
END:STANDARD
END:VTIMEZONE
BEGIN:VEVENT
DTSTART;TZID=America/Moncton:20251210T160000
DTEND;TZID=America/Moncton:20251210T170000
DTSTAMP:20260423T004511
CREATED:20251204T191641Z
LAST-MODIFIED:20251204T191718Z
UID:2781-1765382400-1765386000@kingsrsc.ca
SUMMARY:KINGS RSC Board Meeting
DESCRIPTION:The Kings RSC Board of Directors will have a meeting on Wednesday\, December 10th\, 2025\, at 4pm at the Kings RSC Boardroom located at 27 Winter Street\, Unit 1\, Sussex NB\, E4E2H9. \n  \n\n\n\nClick here to view the Agenda
URL:https://kingsrsc.ca/event/kings-rsc-board-meeting/
END:VEVENT
END:VCALENDAR