BEGIN:VCALENDAR
VERSION:2.0
PRODID:-//KingsRSC - ECPv6.15.20//NONSGML v1.0//EN
CALSCALE:GREGORIAN
METHOD:PUBLISH
X-WR-CALNAME:KingsRSC
X-ORIGINAL-URL:https://kingsrsc.ca
X-WR-CALDESC:Events for KingsRSC
REFRESH-INTERVAL;VALUE=DURATION:PT1H
X-Robots-Tag:noindex
X-PUBLISHED-TTL:PT1H
BEGIN:VTIMEZONE
TZID:America/Moncton
BEGIN:DAYLIGHT
TZOFFSETFROM:-0400
TZOFFSETTO:-0300
TZNAME:ADT
DTSTART:20240310T060000
END:DAYLIGHT
BEGIN:STANDARD
TZOFFSETFROM:-0300
TZOFFSETTO:-0400
TZNAME:AST
DTSTART:20241103T050000
END:STANDARD
BEGIN:DAYLIGHT
TZOFFSETFROM:-0400
TZOFFSETTO:-0300
TZNAME:ADT
DTSTART:20250309T060000
END:DAYLIGHT
BEGIN:STANDARD
TZOFFSETFROM:-0300
TZOFFSETTO:-0400
TZNAME:AST
DTSTART:20251102T050000
END:STANDARD
BEGIN:DAYLIGHT
TZOFFSETFROM:-0400
TZOFFSETTO:-0300
TZNAME:ADT
DTSTART:20260308T060000
END:DAYLIGHT
BEGIN:STANDARD
TZOFFSETFROM:-0300
TZOFFSETTO:-0400
TZNAME:AST
DTSTART:20261101T050000
END:STANDARD
END:VTIMEZONE
BEGIN:VTIMEZONE
TZID:America/Sao_Paulo
BEGIN:STANDARD
TZOFFSETFROM:-0300
TZOFFSETTO:-0300
TZNAME:-03
DTSTART:20240101T000000
END:STANDARD
END:VTIMEZONE
BEGIN:VEVENT
DTSTART;TZID=America/Moncton:20250825T100000
DTEND;TZID=America/Moncton:20250825T120000
DTSTAMP:20260422T192947
CREATED:20250812T135926Z
LAST-MODIFIED:20250812T135926Z
UID:2616-1756116000-1756123200@kingsrsc.ca
SUMMARY:Beyond the Pantry: Cooking Workshop with Chef Shane
DESCRIPTION:The Kings Regional Service Commission is excited to host Beyond the Pantry\, a hands-on cooking workshop designed to make healthy\, delicious meals more accessible to everyone. \nIn this session\, Chef Shane will guide participants in creating a nutritious\, family-friendly meal using fresh produce and common food bank items. All ingredients will be provided – you just bring your curiosity and appetite! \nWhy We’re Hosting This Workshop\nThis event is part of our Community Development mandate under the priority area of food security. Access to healthy\, affordable food is a cornerstone of strong\, thriving communities. Beyond the Pantry offers practical skills\, budget-friendly tips\, and creative ways to use ingredients you might already have at home or receive from a food bank. \nWhat You’ll Gain\n\nHands-on cooking experience with guidance from a local chef\nIdeas for stretching your grocery budget without sacrificing nutrition\nA ready-to-enjoy meal you’ve prepared yourself\nNew connections with others who share an interest in good food and healthy living\n\nRegistration Details\nThis is a free event\, but space is limited to 10 participants.Please register by Wednesday\, August 20 by clicking here. \nThis project is made possible through funding from the Economic and Social Inclusion Corporation (ESIC)\, which supports initiatives that build inclusion and strengthen community connections in the Kings Region. \nTogether\, we can turn simple ingredients into nourishing meals – and build a stronger\, more food-secure community.
URL:https://kingsrsc.ca/event/beyond-the-pantry-cooking-workshop-with-chef-shane/
LOCATION:Sussex Lions Club\, 58 Willow Court\, Sussex\, New Brunswick\, E4E 2L2\, Canada
CATEGORIES:Community Development
ATTACH;FMTTYPE=image/png:https://kingsrsc.ca/wp-content/uploads/2025/08/2025-08-25-Beyond-the-Pantry.png
ORGANIZER;CN="Kings Regional Service Commission":MAILTO:info@kingsrsc.ca
END:VEVENT
BEGIN:VEVENT
DTSTART;TZID=America/Moncton:20250820T110000
DTEND;TZID=America/Moncton:20250820T140000
DTSTAMP:20260422T192947
CREATED:20250811T153446Z
LAST-MODIFIED:20250811T153746Z
UID:2608-1755687600-1755698400@kingsrsc.ca
SUMMARY:Volunteer Expo
DESCRIPTION:Discover. Connect. Get Involved.\nThe Kings Regional Service Commission invites you to celebrate the heart of our communities – our volunteers. On Wednesday\, August 20\, 2025\, from 11:00 a.m. to 2:00 p.m.\, Leonard’s Gate in Sussex will come alive with stories\, connections\, and opportunities to make a difference. \nThis free\, drop-in event is a chance to: \n\nMeet inspiring volunteers who are strengthening the Kings Region through their time and talents.\nExplore local organizations and learn how you can get involved.\nShare your own experiences and help spark someone else’s volunteering journey.\n\nWhether you’ve been volunteering for years or are just curious about getting started\, you’ll find friendly faces and open doors. \nFor Community Organizations\nIf your group relies on volunteers\, this is a perfect chance to share your story. Bring brochures\, business cards\, or anything that showcases your work – no elaborate displays required. This event is about connection\, not competition\, and about making it easy for community members to learn\, join\, and contribute. \nWe encourage you to invite your current volunteers to attend so they can be recognized\, share their stories\, and connect with peers from other organizations. This event is designed to bring together existing and prospective volunteers\, creating opportunities for networking\, collaboration\, and community pride. Your volunteers’ experiences can inspire others\, spark new partnerships\, and help grow a stronger\, more connected volunteer network in the Kings Region. \n📋 Register Your Organization Here: Registration Form (opens in a new tab). \nTogether\, we can build stronger\, more connected communities where everyone has a place to belong and contribute. \nThis event is made possible through funding from the Economic and Social Inclusion Corporation (ESIC)\, supporting efforts to strengthen community connections and inclusion in the Kings Region.
URL:https://kingsrsc.ca/event/volunteer-expo/
LOCATION:Leonard’s Gate\, 602 Main St\, Sussex\, New Brunswick\, E4E 2H9\, Canada
CATEGORIES:Community Development
ATTACH;FMTTYPE=image/png:https://kingsrsc.ca/wp-content/uploads/2025/08/2025-08-20-Volunteer-Expo.png
ORGANIZER;CN="Kings Regional Service Commission":MAILTO:info@kingsrsc.ca
END:VEVENT
BEGIN:VEVENT
DTSTART;TZID=America/Moncton:20250819T100000
DTEND;TZID=America/Moncton:20250819T113000
DTSTAMP:20260422T192947
CREATED:20250731T150147Z
LAST-MODIFIED:20250731T150604Z
UID:2601-1755597600-1755603000@kingsrsc.ca
SUMMARY:KINGS RSC PRAC MEETING
DESCRIPTION:The Kings RSC PRAC Meeting will be held on Tuesday August 19th\, 2025\, at 10am at the Valley Waters Municipal Building\, 10 Municipal St.\, Norton\, NB. \n\n\n\nClick here for Public Notice DetailsClick here for Kings RSC PRAC Meeting Agenda
URL:https://kingsrsc.ca/event/kings-rsc-prac-meeting-2/
END:VEVENT
BEGIN:VEVENT
DTSTART;TZID=America/Moncton:20250715T100000
DTEND;TZID=America/Moncton:20250715T110000
DTSTAMP:20260422T192947
CREATED:20250704T120917Z
LAST-MODIFIED:20250711T172454Z
UID:2586-1752573600-1752577200@kingsrsc.ca
SUMMARY:KINGS RSC PRAC MEETING
DESCRIPTION:The Kings RSC PRAC Meeting will be held on Tuesday July 15th\, 2025\, at 10am at the Valley Waters Municipal Building\, 10 Municipal St.\, Norton\, NB. \n\n\n\nClick here for Public Notice Details \nClick here for Kings RSC PRAC Meeting Details
URL:https://kingsrsc.ca/event/kings-rsc-prac-meeting/
END:VEVENT
BEGIN:VEVENT
DTSTART;TZID=America/Moncton:20250528T140000
DTEND;TZID=America/Moncton:20250528T160000
DTSTAMP:20260422T192947
CREATED:20250410T143718Z
LAST-MODIFIED:20250410T143718Z
UID:2487-1748440800-1748448000@kingsrsc.ca
SUMMARY:Outreach Worker Open House
DESCRIPTION:As part of our community development efforts built on trust\, collaboration\, and cooperation\, Kings RSC has engaged two Outreach Workers to support individuals experiencing homelessness and precarious housing. Our approach is centered around understanding each person’s unique needs and meeting them where they are\, offering compassionate\, tailored assistance.\n\n\n\nTo foster inclusive and accessible support\, our outreach workers host weekly open house sessions at the Sussex Regional Library—a warm\, welcoming space intended to serve individuals from across the region.\n\n\n\nThese sessions occur every Wednesday from 2-4pm at the Sussex Regional Library (46 Magnolia Ave\, Sussex). Anyone experiencing homelessness or precarious housing\, including those couch surfing or in temporary arrangements\, is warmly invited to connect with an outreach worker to explore available supports.\n\n\n\nEveryone is welcome\, valued\, and encouraged to participate.
URL:https://kingsrsc.ca/event/outreach-worker-open-house-6/
LOCATION:Sussex Regional Library\, 46 Magnolia Ave\, Sussex\, New Brunswick\, E4E 2G8\, Canada
ORGANIZER;CN="Kings Regional Service Commission":MAILTO:info@kingsrsc.ca
END:VEVENT
BEGIN:VEVENT
DTSTART;TZID=America/Moncton:20250521T140000
DTEND;TZID=America/Moncton:20250521T160000
DTSTAMP:20260422T192947
CREATED:20250410T143652Z
LAST-MODIFIED:20250410T143652Z
UID:2485-1747836000-1747843200@kingsrsc.ca
SUMMARY:Outreach Worker Open House
DESCRIPTION:As part of our community development efforts built on trust\, collaboration\, and cooperation\, Kings RSC has engaged two Outreach Workers to support individuals experiencing homelessness and precarious housing. Our approach is centered around understanding each person’s unique needs and meeting them where they are\, offering compassionate\, tailored assistance.\n\n\n\nTo foster inclusive and accessible support\, our outreach workers host weekly open house sessions at the Sussex Regional Library—a warm\, welcoming space intended to serve individuals from across the region.\n\n\n\nThese sessions occur every Wednesday from 2-4pm at the Sussex Regional Library (46 Magnolia Ave\, Sussex). Anyone experiencing homelessness or precarious housing\, including those couch surfing or in temporary arrangements\, is warmly invited to connect with an outreach worker to explore available supports.\n\n\n\nEveryone is welcome\, valued\, and encouraged to participate.
URL:https://kingsrsc.ca/event/outreach-worker-open-house-5/
LOCATION:Sussex Regional Library\, 46 Magnolia Ave\, Sussex\, New Brunswick\, E4E 2G8\, Canada
CATEGORIES:Community Development
ORGANIZER;CN="Kings Regional Service Commission":MAILTO:info@kingsrsc.ca
END:VEVENT
BEGIN:VEVENT
DTSTART;TZID=America/Moncton:20250514T140000
DTEND;TZID=America/Moncton:20250514T160000
DTSTAMP:20260422T192947
CREATED:20250410T143615Z
LAST-MODIFIED:20250410T143615Z
UID:2483-1747231200-1747238400@kingsrsc.ca
SUMMARY:Outreach Worker Open House
DESCRIPTION:As part of our community development efforts built on trust\, collaboration\, and cooperation\, Kings RSC has engaged two Outreach Workers to support individuals experiencing homelessness and precarious housing. Our approach is centered around understanding each person’s unique needs and meeting them where they are\, offering compassionate\, tailored assistance.\n\n\n\nTo foster inclusive and accessible support\, our outreach workers host weekly open house sessions at the Sussex Regional Library—a warm\, welcoming space intended to serve individuals from across the region.\n\n\n\nThese sessions occur every Wednesday from 2-4pm at the Sussex Regional Library (46 Magnolia Ave\, Sussex). Anyone experiencing homelessness or precarious housing\, including those couch surfing or in temporary arrangements\, is warmly invited to connect with an outreach worker to explore available supports.\n\n\n\nEveryone is welcome\, valued\, and encouraged to participate.
URL:https://kingsrsc.ca/event/outreach-worker-open-house-4/
LOCATION:Sussex Regional Library\, 46 Magnolia Ave\, Sussex\, New Brunswick\, E4E 2G8\, Canada
CATEGORIES:Economic Development
ORGANIZER;CN="Kings Regional Service Commission":MAILTO:info@kingsrsc.ca
END:VEVENT
BEGIN:VEVENT
DTSTART;TZID=America/Moncton:20250507T140000
DTEND;TZID=America/Moncton:20250507T160000
DTSTAMP:20260422T192947
CREATED:20250410T143543Z
LAST-MODIFIED:20250410T143543Z
UID:2481-1746626400-1746633600@kingsrsc.ca
SUMMARY:Outreach Worker Open House
DESCRIPTION:As part of our community development efforts built on trust\, collaboration\, and cooperation\, Kings RSC has engaged two Outreach Workers to support individuals experiencing homelessness and precarious housing. Our approach is centered around understanding each person’s unique needs and meeting them where they are\, offering compassionate\, tailored assistance.\n\n\n\nTo foster inclusive and accessible support\, our outreach workers host weekly open house sessions at the Sussex Regional Library—a warm\, welcoming space intended to serve individuals from across the region.\n\n\n\nThese sessions occur every Wednesday from 2-4pm at the Sussex Regional Library (46 Magnolia Ave\, Sussex). Anyone experiencing homelessness or precarious housing\, including those couch surfing or in temporary arrangements\, is warmly invited to connect with an outreach worker to explore available supports.\n\n\n\nEveryone is welcome\, valued\, and encouraged to participate.
URL:https://kingsrsc.ca/event/outreach-worker-open-house-3/
LOCATION:Sussex Regional Library\, 46 Magnolia Ave\, Sussex\, New Brunswick\, E4E 2G8\, Canada
CATEGORIES:Community Development
ORGANIZER;CN="Kings Regional Service Commission":MAILTO:info@kingsrsc.ca
END:VEVENT
BEGIN:VEVENT
DTSTART;TZID=America/Moncton:20250430T140000
DTEND;TZID=America/Moncton:20250430T160000
DTSTAMP:20260422T192947
CREATED:20250410T143512Z
LAST-MODIFIED:20250410T143512Z
UID:2479-1746021600-1746028800@kingsrsc.ca
SUMMARY:Outreach Worker Open House
DESCRIPTION:As part of our community development efforts built on trust\, collaboration\, and cooperation\, Kings RSC has engaged two Outreach Workers to support individuals experiencing homelessness and precarious housing. Our approach is centered around understanding each person’s unique needs and meeting them where they are\, offering compassionate\, tailored assistance.\n\n\n\nTo foster inclusive and accessible support\, our outreach workers host weekly open house sessions at the Sussex Regional Library—a warm\, welcoming space intended to serve individuals from across the region.\n\n\n\nThese sessions occur every Wednesday from 2-4pm at the Sussex Regional Library (46 Magnolia Ave\, Sussex). Anyone experiencing homelessness or precarious housing\, including those couch surfing or in temporary arrangements\, is warmly invited to connect with an outreach worker to explore available supports.\n\n\n\nEveryone is welcome\, valued\, and encouraged to participate.
URL:https://kingsrsc.ca/event/outreach-worker-open-house-2/
LOCATION:Sussex Regional Library\, 46 Magnolia Ave\, Sussex\, New Brunswick\, E4E 2G8\, Canada
CATEGORIES:Community Development
ORGANIZER;CN="Kings Regional Service Commission":MAILTO:info@kingsrsc.ca
END:VEVENT
BEGIN:VEVENT
DTSTART;TZID=America/Moncton:20250425T100000
DTEND;TZID=America/Moncton:20250425T113000
DTSTAMP:20260422T192947
CREATED:20250410T132205Z
LAST-MODIFIED:20250410T132229Z
UID:2453-1745575200-1745580600@kingsrsc.ca
SUMMARY:United Way Workshop: Grant Writing Basics
DESCRIPTION:Community Service Organizations serving the Kings Region are invited to a free\, in-person workshop on Grant Writing Basics\, happening Thursday\, April 25 from 10:00 a.m. to 11:30 a.m. at the Sussex Regional Library. \n\n\n\nLed by funding consultant Kathleen Buckley\, this session will introduce practical tools and strategies to help non-profits write stronger grant applications with fewer resources. Whether you’re new to grant writing or looking to sharpen your skills\, this workshop will equip you to better navigate funding opportunities and secure the support your organization needs. \n\n\n\nKathleen Buckley has helped artists and nonprofits secure more than $2.5 million in grant funding\, with a focus on organizations in the arts\, social sectors\, and those serving 2SLGBTQIA+ and BIPOC communities. \n\n\n\nThis session is hosted by United Way\, with funding support from Kings Regional Resiliency. \n\n\n\n➡️ Register here for the April 25 Grant Writing Workshop \n\n\n\n\n\nUpcoming Workshops in the Kings Sector Development Series: \n\n\n\n\nMay 9: Social Media & Increasing Engagement (➡️ Registration)\n\n\n\nJune 6: Board Governance (➡️ Registration)\n\n\n\nAugust 7: Allyship and Inclusion (➡️ Registration)\n\n\n\n\nWe’re pleased to help share these opportunities\, which align closely with our ongoing efforts to build community capacity and strengthen the non-profit sector across the Kings region.
URL:https://kingsrsc.ca/event/united-way-workshop-grant-writing-basics/
LOCATION:Sussex Regional Library\, 46 Magnolia Ave\, Sussex\, New Brunswick\, E4E 2G8\, Canada
CATEGORIES:Community Development
ORGANIZER;CN="United Way Saint John%2C Kings & Charlotte":MAILTO:info@unitedwaysaintjohn.com
END:VEVENT
BEGIN:VEVENT
DTSTART;TZID=America/Moncton:20250423T140000
DTEND;TZID=America/Moncton:20250423T160000
DTSTAMP:20260422T192947
CREATED:20250410T143405Z
LAST-MODIFIED:20250410T143405Z
UID:2477-1745416800-1745424000@kingsrsc.ca
SUMMARY:Outreach Worker Open House
DESCRIPTION:As part of our community development efforts built on trust\, collaboration\, and cooperation\, Kings RSC has engaged two Outreach Workers to support individuals experiencing homelessness and precarious housing. Our approach is centered around understanding each person’s unique needs and meeting them where they are\, offering compassionate\, tailored assistance.\n\n\n\nTo foster inclusive and accessible support\, our outreach workers host weekly open house sessions at the Sussex Regional Library—a warm\, welcoming space intended to serve individuals from across the region.\n\n\n\nThese sessions occur every Wednesday from 2-4pm at the Sussex Regional Library (46 Magnolia Ave\, Sussex). Anyone experiencing homelessness or precarious housing\, including those couch surfing or in temporary arrangements\, is warmly invited to connect with an outreach worker to explore available supports.\n\n\n\nEveryone is welcome\, valued\, and encouraged to participate.
URL:https://kingsrsc.ca/event/outreach-worker-open-house/
LOCATION:Sussex Regional Library\, 46 Magnolia Ave\, Sussex\, New Brunswick\, E4E 2G8\, Canada
CATEGORIES:Community Development
ORGANIZER;CN="Kings Regional Service Commission":MAILTO:info@kingsrsc.ca
END:VEVENT
BEGIN:VEVENT
DTSTART;TZID=America/Moncton:20250416T140000
DTEND;TZID=America/Moncton:20250416T160000
DTSTAMP:20260422T192947
CREATED:20250410T131721Z
LAST-MODIFIED:20250410T143254Z
UID:2448-1744812000-1744819200@kingsrsc.ca
SUMMARY:Outreach Worker Open House
DESCRIPTION:As part of our community development efforts built on trust\, collaboration\, and cooperation\, Kings RSC has engaged two Outreach Workers to support individuals experiencing homelessness and precarious housing. Our approach is centered around understanding each person’s unique needs and meeting them where they are\, offering compassionate\, tailored assistance. \n\n\n\nTo foster inclusive and accessible support\, our outreach workers host weekly open house sessions at the Sussex Regional Library—a warm\, welcoming space intended to serve individuals from across the region. \n\n\n\nThese sessions occur every Wednesday from 2-4pm at the Sussex Regional Library (46 Magnolia Ave\, Sussex). Anyone experiencing homelessness or precarious housing\, including those couch surfing or in temporary arrangements\, is warmly invited to connect with an outreach worker to explore available supports. \n\n\n\nEveryone is welcome\, valued\, and encouraged to participate.
URL:https://kingsrsc.ca/event/outreach-workers-open-house/
LOCATION:Sussex Regional Library\, 46 Magnolia Ave\, Sussex\, New Brunswick\, E4E 2G8\, Canada
CATEGORIES:Community Development
ORGANIZER;CN="Kings Regional Service Commission":MAILTO:info@kingsrsc.ca
END:VEVENT
BEGIN:VEVENT
DTSTART;TZID=America/Sao_Paulo:20250416T114500
DTEND;TZID=America/Sao_Paulo:20250416T131500
DTSTAMP:20260422T192947
CREATED:20250410T130420Z
LAST-MODIFIED:20250410T130643Z
UID:2441-1744803900-1744809300@kingsrsc.ca
SUMMARY:Student Job Fair
DESCRIPTION:In response to ongoing feedback from employers about unfilled summer student positions\, Kings RSC is partnering with the Sussex & District Chamber of Commerce and The Work Room to host a dedicated Student Job Fair at Sussex Regional High School. This event is designed to help employers connect directly with students and ensure government-funded summer opportunities are fully utilized. \nBy fostering early engagement between students and employers\, the Job Fair supports workforce readiness\, builds local career pathways\, and strengthens connections across our region. It’s a simple but meaningful step toward a more inclusive\, responsive\, and collaborative workforce ecosystem—one where opportunities are visible\, accessible\, and aligned with community needs. \nWe invite employers and students to participate and help shape a more vibrant and prepared workforce for the future. \nSpace is limited so employers are asked to register in advance:\n🤝 RSVP with the Chamber
URL:https://kingsrsc.ca/event/student-job-fair/
LOCATION:Sussex Regional High School\, 55 Leonard Dr\, Sussex\, New Brunswick\, E4E 5T5\, Canada
CATEGORIES:Economic Development
ORGANIZER;CN="Kings Regional Service Commission":MAILTO:info@kingsrsc.ca
END:VEVENT
END:VCALENDAR